BEGIN:VCALENDAR
VERSION:2.0
PRODID:-//wp-events-plugin.com//7.2.3.1//EN
TZID:Europe/Berlin
X-WR-TIMEZONE:Europe/Berlin
BEGIN:VEVENT
UID:584@kneipenkonzerte.de
DTSTART;TZID=Europe/Berlin:20161008T210000
DTEND;TZID=Europe/Berlin:20161010T233000
DTSTAMP:20161006T180901Z
URL:https://kneipenkonzerte.de/veranstaltungen/strutters-ball-berlin/
SUMMARY:Strutters Ball
DESCRIPTION:"Die Band Strutters Ball erzählt Geschichten aus einer Welt\, 
 in der die Leute im Keller wohnen und ihr Müsli mit Asche essen\, in der 
 die Grooves klappern\, die Melodien hinken und die Balladen nicht von der 
 Liebe handeln. Eine Welt\, wie von Duke Ellington und Tom Waits ..."
ATTACH;FMTTYPE=image/jpeg:https://kneipenkonzerte.de/wp-content/uploads/20
 16/05/kneipenkonzert-livemusik-veranstaltung-1.jpg
CATEGORIES:Jazz
LOCATION:Peppi Guggenheim\, Weichselstrasse 7 \, Berlin\, Berlin\, 12043 \,
  Berlin\, Deutschland
GEO:52.48419999999999;13.433250000000044
X-APPLE-STRUCTURED-LOCATION;VALUE=URI;X-ADDRESS=Weichselstrasse 7 \, Berlin
 \, Berlin\, 12043 \, Berlin\, Deutschland;X-APPLE-RADIUS=100;X-TITLE=Peppi
  Guggenheim:geo:52.48419999999999,13.433250000000044
END:VEVENT
BEGIN:VTIMEZONE
TZID:Europe/Berlin
X-LIC-LOCATION:Europe/Berlin
BEGIN:DAYLIGHT
DTSTART:20160327T030000
TZOFFSETFROM:+0100
TZOFFSETTO:+0200
TZNAME:CEST
END:DAYLIGHT
END:VTIMEZONE
END:VCALENDAR