BEGIN:VCALENDAR
VERSION:2.0
PRODID:-//wp-events-plugin.com//7.2.3.1//EN
TZID:Europe/Berlin
X-WR-TIMEZONE:Europe/Berlin
BEGIN:VEVENT
UID:582@kneipenkonzerte.de
DTSTART;TZID=Europe/Berlin:20161010T210000
DTEND;TZID=Europe/Berlin:20161010T233000
DTSTAMP:20161006T175858Z
URL:https://kneipenkonzerte.de/veranstaltungen/strutters-ball-dresden/
SUMMARY:Strutters Ball
DESCRIPTION:"Die Band Strutters Ball erzählt Geschichten aus einer Welt\, 
 in der die Leute im Keller wohnen und ihr Müsli mit Asche essen\, in der 
 die Grooves klappern\, die Melodien hinken und die Balladen nicht von der 
 Liebe handeln. Eine Welt\, wie von Duke Ellington und Tom Waits ..."
ATTACH;FMTTYPE=image/jpeg:https://kneipenkonzerte.de/wp-content/uploads/20
 16/05/kneipenkonzert-livemusik-veranstaltung-1.jpg
CATEGORIES:Jazz
LOCATION:Blue Note\, Görlitzer Straße 2b \, Dresden\, Sachsen\, 01099 \, 
 Dresden\, Deutschland
GEO:51.0666016;13.75412940000001
X-APPLE-STRUCTURED-LOCATION;VALUE=URI;X-ADDRESS=Görlitzer Straße 2b \, Dr
 esden\, Sachsen\, 01099 \, Dresden\, Deutschland;X-APPLE-RADIUS=100;X-TITL
 E=Blue Note:geo:51.0666016,13.75412940000001
END:VEVENT
BEGIN:VTIMEZONE
TZID:Europe/Berlin
X-LIC-LOCATION:Europe/Berlin
BEGIN:DAYLIGHT
DTSTART:20160327T030000
TZOFFSETFROM:+0100
TZOFFSETTO:+0200
TZNAME:CEST
END:DAYLIGHT
END:VTIMEZONE
END:VCALENDAR