BEGIN:VCALENDAR
VERSION:2.0
PRODID:-//wp-events-plugin.com//7.2.3.1//EN
TZID:Europe/Berlin
X-WR-TIMEZONE:Europe/Berlin
BEGIN:VEVENT
UID:593@kneipenkonzerte.de
DTSTART;TZID=Europe/Berlin:20161106T200000
DTEND;TZID=Europe/Berlin:20161106T220000
DTSTAMP:20161013T221415Z
URL:https://kneipenkonzerte.de/veranstaltungen/stummfilmkonzert-metropolis
 /
SUMMARY:Stummfilmkonzert - Metropolis
DESCRIPTION:Improvisierte Piano Klänge von Wolfgang Kordbarlag beglei­ten
  einen Stummfilm Klassiker\, das gibt es zweimal im Jahr in der Extra Blue
 s Bar. Diesmal läuft Fritz Langs Meister­werk Metropolis.
ATTACH;FMTTYPE=image/jpeg:https://kneipenkonzerte.de/wp-content/uploads/20
 16/05/kneipenkonzert-livemusik-veranstaltung-1.jpg
CATEGORIES:Blues
LOCATION:Extra Blues Bar\, Siekerstraße 20\, Bielefeld\, NRW\, 33602\, Ost
 westfalen\, Deutschland
GEO:52.0164205;8.531002599999965
X-APPLE-STRUCTURED-LOCATION;VALUE=URI;X-ADDRESS=Siekerstraße 20\, Bielefel
 d\, NRW\, 33602\, Ostwestfalen\, Deutschland;X-APPLE-RADIUS=100;X-TITLE=Ex
 tra Blues Bar:geo:52.0164205,8.531002599999965
END:VEVENT
BEGIN:VTIMEZONE
TZID:Europe/Berlin
X-LIC-LOCATION:Europe/Berlin
BEGIN:STANDARD
DTSTART:20161030T020000
TZOFFSETFROM:+0200
TZOFFSETTO:+0100
TZNAME:CET
END:STANDARD
END:VTIMEZONE
END:VCALENDAR