BEGIN:VCALENDAR
VERSION:2.0
PRODID:-//wp-events-plugin.com//7.2.3.1//EN
TZID:Europe/Berlin
X-WR-TIMEZONE:Europe/Berlin
BEGIN:VEVENT
UID:7411@kneipenkonzerte.de
DTSTART;TZID=Europe/Berlin:20260426T180000
DTEND;TZID=Europe/Berlin:20260426T200000
DTSTAMP:20260209T125336Z
URL:https://kneipenkonzerte.de/veranstaltungen/sunday-surprise-joseph-pars
 ons/
SUMMARY:Sunday Surprise: Joseph Parsons
DESCRIPTION:Joseph Parsons ist ein in Europa lebender Musiker\, Songwriter 
 und Performer. Er hat sich einen Namen gemacht\, indem er kontinuierlich a
 ußergewöhnliche\, songorientierte Studio- und Live-Alben veröffentlicht
 . Mit einem intensiven Tourplan ist JP ein mitreißender Live-Act in Konze
 rtclubs und auf Festivalbühnen in Nordeuropa und tritt gelegentlich auch 
 in Frankreich\, Spanien\, Italien\, Großbritannien und den USA auf.
ATTACH;FMTTYPE=image/jpeg:https://kneipenkonzerte.de/wp-content/uploads/20
 16/05/kneipenkonzerte_banner3.jpg
CATEGORIES:Singer/Songwriter
LOCATION:Sumpfblume\, Am Stockhof 2a\, Hameln\, Niedersachsen\, 31785 \, Ha
 nnover\, Deutschland
GEO:52.09837;9.355729999999994
X-APPLE-STRUCTURED-LOCATION;VALUE=URI;X-ADDRESS=Am Stockhof 2a\, Hameln\, N
 iedersachsen\, 31785 \, Hannover\, Deutschland;X-APPLE-RADIUS=100;X-TITLE=
 Sumpfblume:geo:52.09837,9.355729999999994
END:VEVENT
BEGIN:VTIMEZONE
TZID:Europe/Berlin
X-LIC-LOCATION:Europe/Berlin
BEGIN:DAYLIGHT
DTSTART:20260329T030000
TZOFFSETFROM:+0100
TZOFFSETTO:+0200
TZNAME:CEST
END:DAYLIGHT
END:VTIMEZONE
END:VCALENDAR