BEGIN:VCALENDAR
VERSION:2.0
PRODID:-//wp-events-plugin.com//7.2.3.1//EN
TZID:Europe/Berlin
X-WR-TIMEZONE:Europe/Berlin
BEGIN:VEVENT
UID:2666@kneipenkonzerte.de
DTSTART;TZID=Europe/Berlin:20190426T190000
DTEND;TZID=Europe/Berlin:20190426T223000
DTSTAMP:20190128T150343Z
URL:https://kneipenkonzerte.de/veranstaltungen/the-beattells/
SUMMARY:THE BEATTELLS
DESCRIPTION:THE BEATTELLS\nEine Beatles-Tribute-Band aus Hamburg\nWas 2001 
 in Wilster beim ersten Auftritt im Collosseum begann\, geht nun\nunvermind
 ert weiter.\nDie Beattells bleiben dabei eine Band mit eigenem Profil. die
  Liebe zur Beatles -Musik mit Ihren vielen Fans teilt.\nSie verzichten bew
 usst auf die sonst übliche "Beatles-Verkleidung" jedoch nicht auf origina
 les\nBühnen-Equipment.\nBei Ihnen stehen eigenständige Persönlichkeiten
  auf der Bühne.\nIhre Beliebtheit und Erfolg \, resultieren aus authentis
 chem und eigenem Sound\,\nausgefeilten Satzgesang\, herausragender Musikal
 ität und nicht zuletzt aus einer launig und\nzugleich augenzwinkernder B
 ühnenmoderation.
ATTACH;FMTTYPE=image/jpeg:https://kneipenkonzerte.de/wp-content/uploads/20
 19/01/beattells2.jpg
CATEGORIES:Rock
LOCATION:Dingsteder Krug\, Kimmer Strasse 1\, Hatten\, Niedersachsen\, 2620
 9\, Bremen\, Deutschland
X-APPLE-STRUCTURED-LOCATION;VALUE=URI;X-ADDRESS=Kimmer Strasse 1\, Hatten\,
  Niedersachsen\, 26209\, Bremen\, Deutschland;X-APPLE-RADIUS=100;X-TITLE=D
 ingsteder Krug:geo:0,0
END:VEVENT
BEGIN:VTIMEZONE
TZID:Europe/Berlin
X-LIC-LOCATION:Europe/Berlin
BEGIN:DAYLIGHT
DTSTART:20190331T030000
TZOFFSETFROM:+0100
TZOFFSETTO:+0200
TZNAME:CEST
END:DAYLIGHT
END:VTIMEZONE
END:VCALENDAR