BEGIN:VCALENDAR
VERSION:2.0
PRODID:-//wp-events-plugin.com//7.2.3.1//EN
TZID:Europe/Berlin
X-WR-TIMEZONE:Europe/Berlin
BEGIN:VEVENT
UID:632@kneipenkonzerte.de
DTSTART;TZID=Europe/Berlin:20170121T210000
DTEND;TZID=Europe/Berlin:20170121T230000
DTSTAMP:20161215T112202Z
URL:https://kneipenkonzerte.de/veranstaltungen/the-doing-nothings/
SUMMARY:The Doing Nothings
DESCRIPTION:The Doing Nothings aus Köln\nSeit 2008 treten der Sänger und 
 Poet Peter Sarach (Rausch\, Cowboys on Dope) und die Liedermacherette Kraz
 y immer wie­der gemeinsam auf mit einem Programm\, in dem sie ihr Reper­
 toire zusammenwerfen und ihre persönlichen Best-Of der inter­nationalen 
 Songwri­terkultur sowie knei­penkompatible Lyrik mit ei­genen Stücken 
 mi­schen - "ohne Pro­ben\, ohne Netz und mit doppeltem Bo­den".\nJedes 
 Konzert folgt einem spontanen Griff ins Repertoire: Songs in vier Sprachen
  (englisch\, deutsch\, französisch\, spanisch) und Improvisationen über 
 Poesie von F. Villon bis P. Rühmkorf laden ein zum Aufenthalt in der Welt
  des kontemplativen wie provoka­tiven inspirierten Nichtstuns.
ATTACH;FMTTYPE=image/jpeg:https://kneipenkonzerte.de/wp-content/uploads/20
 16/12/TheDoingNothings_back2_klein1.jpg
CATEGORIES:Singer/Songwriter
LOCATION:Extra Blues Bar\, Siekerstraße 20\, Bielefeld\, NRW\, 33602\, Ost
 westfalen\, Deutschland
GEO:52.0164205;8.531002599999965
X-APPLE-STRUCTURED-LOCATION;VALUE=URI;X-ADDRESS=Siekerstraße 20\, Bielefel
 d\, NRW\, 33602\, Ostwestfalen\, Deutschland;X-APPLE-RADIUS=100;X-TITLE=Ex
 tra Blues Bar:geo:52.0164205,8.531002599999965
END:VEVENT
BEGIN:VTIMEZONE
TZID:Europe/Berlin
X-LIC-LOCATION:Europe/Berlin
BEGIN:STANDARD
DTSTART:20161030T020000
TZOFFSETFROM:+0200
TZOFFSETTO:+0100
TZNAME:CET
END:STANDARD
END:VTIMEZONE
END:VCALENDAR