BEGIN:VCALENDAR
VERSION:2.0
PRODID:-//wp-events-plugin.com//7.2.3.1//EN
TZID:Europe/Berlin
X-WR-TIMEZONE:Europe/Berlin
BEGIN:VEVENT
UID:598@kneipenkonzerte.de
DTSTART;TZID=Europe/Berlin:20181110T210000
DTEND;TZID=Europe/Berlin:20181110T230000
DTSTAMP:20180930T161016Z
URL:https://kneipenkonzerte.de/veranstaltungen/the-fulltones/
SUMMARY:The Fulltones
DESCRIPTION:Der Sommer ist vorbei und nach vielen Stadtfesten und Open-Air
 ’s tauchen The Fulltones (Bielefeld) wieder in ihr eigentliches Wohn­zi
 mmer ab. „Unten“\, in der Ex­tra-Blues-Bar\, ist das Feeling der Swin
 ­ging Sixties so greif­bar nah wie an kaum einem ande­ren Ort in OWL. K
 leine Büh­ne\, Clubat­mosphäre und passend dazu die Songs der Animals\
 , Kinks\, Sonics und Yard­birds.
ATTACH;FMTTYPE=image/jpeg:https://kneipenkonzerte.de/wp-content/uploads/20
 16/10/fulltones-presse-klein.jpg
CATEGORIES:Rock
LOCATION:Extra Blues Bar\, Siekerstraße 20\, Bielefeld\, NRW\, 33602\, Ost
 westfalen\, Deutschland
GEO:52.0164205;8.531002599999965
X-APPLE-STRUCTURED-LOCATION;VALUE=URI;X-ADDRESS=Siekerstraße 20\, Bielefel
 d\, NRW\, 33602\, Ostwestfalen\, Deutschland;X-APPLE-RADIUS=100;X-TITLE=Ex
 tra Blues Bar:geo:52.0164205,8.531002599999965
END:VEVENT
BEGIN:VTIMEZONE
TZID:Europe/Berlin
X-LIC-LOCATION:Europe/Berlin
BEGIN:STANDARD
DTSTART:20181028T020000
TZOFFSETFROM:+0200
TZOFFSETTO:+0100
TZNAME:CET
END:STANDARD
END:VTIMEZONE
END:VCALENDAR