BEGIN:VCALENDAR
VERSION:2.0
PRODID:-//wp-events-plugin.com//7.2.3.1//EN
TZID:Europe/Berlin
X-WR-TIMEZONE:Europe/Berlin
BEGIN:VEVENT
UID:4936@kneipenkonzerte.de
DTSTART;TZID=Europe/Berlin:20220610T200000
DTEND;TZID=Europe/Berlin:20220610T233000
DTSTAMP:20220520T115245Z
URL:https://kneipenkonzerte.de/veranstaltungen/the-hamburg-blues-band-feat
 -chris-farlowe-krissy-matthews/
SUMMARY:The HAMBURG BLUES BAND feat. Chris Farlowe &amp\; Krissy Matthews
DESCRIPTION:40 Jahre St. Pauli Blues!\nIm Rahmen ihrer "40th Anniversary"-T
 our" präsentiert die Hamburg Blues Band mit "The Voice" Chris Farlowe (Co
 losseum\, Atomic Rooster)\, dem Hamburger Rockshouter Gert Lange\, Reggie 
 Worthy (Ike &amp\; Tina Turner\, Eric Burdon)\, Drummer Eddie Filipp (Swee
 t\, Inga Rumpf\, Clem Clempson Band) &amp\; dem erst 29-jährigen Ausnahme
 gitarristen Krissy Matthews "This guy is the real deal" (Beth Hart)\, Song
 s aus über 4 Jahrzehnten HBB &amp\; des britischen Kultsängers. Ein musi
 kalisches Feuerwerk mit Freunden &amp\; Weggefahrten\, echten Typen &amp\;
  Originals.
ATTACH;FMTTYPE=image/jpeg:https://kneipenkonzerte.de/wp-content/uploads/20
 19/11/Pressefoto_The_Hamburg_Blues_Band_feat_Chris_Farlowe_web-3.jpg
CATEGORIES:Rock
LOCATION:Pirschheide\, Zum Bahnhof Pirschheide 1\, Potsdam\, Brandenburg\, 
 14467\, Berlin \, Deutschland
GEO:52.373635;13.010877
X-APPLE-STRUCTURED-LOCATION;VALUE=URI;X-ADDRESS=Zum Bahnhof Pirschheide 1\,
  Potsdam\, Brandenburg\, 14467\, Berlin \, Deutschland;X-APPLE-RADIUS=100;
 X-TITLE=Pirschheide:geo:52.373635,13.010877
END:VEVENT
BEGIN:VTIMEZONE
TZID:Europe/Berlin
X-LIC-LOCATION:Europe/Berlin
BEGIN:DAYLIGHT
DTSTART:20220327T030000
TZOFFSETFROM:+0100
TZOFFSETTO:+0200
TZNAME:CEST
END:DAYLIGHT
END:VTIMEZONE
END:VCALENDAR