BEGIN:VCALENDAR
VERSION:2.0
PRODID:-//wp-events-plugin.com//7.2.3.1//EN
TZID:Europe/Berlin
X-WR-TIMEZONE:Europe/Berlin
BEGIN:VEVENT
UID:4937@kneipenkonzerte.de
DTSTART;TZID=Europe/Berlin:20220617T200000
DTEND;TZID=Europe/Berlin:20220617T230000
DTSTAMP:20220520T115654Z
URL:https://kneipenkonzerte.de/veranstaltungen/the-hamburg-blues-band-frie
 nds/
SUMMARY:The HAMBURG BLUES BAND &amp\; Friends
DESCRIPTION:40 Jahre St. Pauli Blues! Im Rahmen ihrer "40th Anniversary"-To
 ur" präsentiert die Hamburg Blues Band um den Hamburger Rockshouter Gert 
 Lange\, die Crème de la Crème der europäischen Blues &amp\; Rockszene: 
 Arthur Brown (Welthit "Fire")\, "The Voice" Chris Farlowe (Colosseum)\, de
 m deutschen Singer/Songwriter Stoppok\, "The Queen Of Rock From Scotland" 
 Maggie Bell (Stone The Crows)\, Adrian Askew (Lake\, Atlantis) &amp\; den 
 Ausnahmegitarristen Clem Clempson (Colosseum\, Humble Pie\, Jack Bruce Ban
 d) &amp\; dem erst 29-jährigen Krissy Matthews. Ein musikalisches Feuerwe
 rk mit Freunden\, Weggefährten\, echten Typen &amp\; Originals.
ATTACH;FMTTYPE=image/jpeg:https://kneipenkonzerte.de/wp-content/uploads/20
 19/11/Pressefoto_The_Hamburg_Blues_Band_feat_Chris_Farlowe_web-3.jpg
CATEGORIES:Rock
LOCATION:Fabrik\, Barnerstr. 36\, Hamburg\, Hamburg\, 22765\, Hamburg \, De
 utschland
GEO:53.556716;9.929168
X-APPLE-STRUCTURED-LOCATION;VALUE=URI;X-ADDRESS=Barnerstr. 36\, Hamburg\, H
 amburg\, 22765\, Hamburg \, Deutschland;X-APPLE-RADIUS=100;X-TITLE=Fabrik:
 geo:53.556716,9.929168
END:VEVENT
BEGIN:VTIMEZONE
TZID:Europe/Berlin
X-LIC-LOCATION:Europe/Berlin
BEGIN:DAYLIGHT
DTSTART:20220327T030000
TZOFFSETFROM:+0100
TZOFFSETTO:+0200
TZNAME:CEST
END:DAYLIGHT
END:VTIMEZONE
END:VCALENDAR