BEGIN:VCALENDAR
VERSION:2.0
PRODID:-//wp-events-plugin.com//7.2.3.1//EN
TZID:Europe/Berlin
X-WR-TIMEZONE:Europe/Berlin
BEGIN:VEVENT
UID:595@kneipenkonzerte.de
DTSTART;TZID=Europe/Berlin:20161119T210000
DTEND;TZID=Europe/Berlin:20161119T230000
DTSTAMP:20161016T161543Z
URL:https://kneipenkonzerte.de/veranstaltungen/the-jancee-pornick-casino/
SUMMARY:The Jancee Pornick Casino
DESCRIPTION:Das PORNICK CASINO aus Köln mixt einen unwiderstehlichen Molot
 owcocktail aus Surfmusik\, Rockabilly und 60's Garage Punk\, aufgefüllt m
 it russischer Seele\, Adrenalin und Selbstironie. JANCEE's furioses Gitarr
 enspiel versucht dabei\, die Virtuosität eines BRIAN SETZER mit der Energ
 ie eines ANGUS YOUNG zu kreuzen und wird dabei angetrieben von Morosovs Ba
 ssbalalaika und Popovs Drumfeuerwerk mit der Stärke eines sibirischen Ork
 ans.\n\nJancee Warnick  - guitar &amp\; vocals\nAvsen Morosov - bass-b
 alalayka &amp\; vocals\nUlas Saglam - drums &amp\; vocals
ATTACH;FMTTYPE=image/jpeg:https://kneipenkonzerte.de/wp-content/uploads/20
 16/10/jancee_warnick_03_klein.jpg
CATEGORIES:Rock
LOCATION:Extra Blues Bar\, Siekerstraße 20\, Bielefeld\, NRW\, 33602\, Ost
 westfalen\, Deutschland
GEO:52.0164205;8.531002599999965
X-APPLE-STRUCTURED-LOCATION;VALUE=URI;X-ADDRESS=Siekerstraße 20\, Bielefel
 d\, NRW\, 33602\, Ostwestfalen\, Deutschland;X-APPLE-RADIUS=100;X-TITLE=Ex
 tra Blues Bar:geo:52.0164205,8.531002599999965
END:VEVENT
BEGIN:VTIMEZONE
TZID:Europe/Berlin
X-LIC-LOCATION:Europe/Berlin
BEGIN:STANDARD
DTSTART:20161030T020000
TZOFFSETFROM:+0200
TZOFFSETTO:+0100
TZNAME:CET
END:STANDARD
END:VTIMEZONE
END:VCALENDAR