BEGIN:VCALENDAR
VERSION:2.0
PRODID:-//wp-events-plugin.com//7.2.3.1//EN
TZID:Europe/Berlin
X-WR-TIMEZONE:Europe/Berlin
BEGIN:VEVENT
UID:570@kneipenkonzerte.de
DTSTART;TZID=Europe/Berlin:20160929T190000
DTEND;TZID=Europe/Berlin:20160929T230000
DTSTAMP:20160922T125738Z
URL:https://kneipenkonzerte.de/veranstaltungen/the-litte-unsaid-uk-flowers
 -in-syrup/
SUMMARY:The Litte Unsaid (UK) &amp\; Flowers in Syrup
DESCRIPTION:
ATTACH;FMTTYPE=image/jpeg:https://kneipenkonzerte.de/wp-content/uploads/20
 16/09/Flowers-in-Syrup-1472016-18_72dpi.jpg
CATEGORIES:Alternative
LOCATION:Zwölfzehn\, Paulinenstraße 45\, Stuttgart\, Baden-Württemberg\,
  70178 \, Stuttgart\, Deutschland
GEO:48.773010;9.169730
X-APPLE-STRUCTURED-LOCATION;VALUE=URI;X-ADDRESS=Paulinenstraße 45\, Stuttg
 art\, Baden-Württemberg\, 70178 \, Stuttgart\, Deutschland;X-APPLE-RADIUS
 =100;X-TITLE=Zwölfzehn:geo:48.773010,9.169730
END:VEVENT
BEGIN:VTIMEZONE
TZID:Europe/Berlin
X-LIC-LOCATION:Europe/Berlin
BEGIN:DAYLIGHT
DTSTART:20160327T030000
TZOFFSETFROM:+0100
TZOFFSETTO:+0200
TZNAME:CEST
END:DAYLIGHT
END:VTIMEZONE
END:VCALENDAR