BEGIN:VCALENDAR
VERSION:2.0
PRODID:-//wp-events-plugin.com//7.2.3.1//EN
TZID:Europe/Berlin
X-WR-TIMEZONE:Europe/Berlin
BEGIN:VEVENT
UID:5795@kneipenkonzerte.de
DTSTART;TZID=Europe/Berlin:20220625T150000
DTEND;TZID=Europe/Berlin:20220625T180000
DTSTAMP:20220616T125749Z
URL:https://kneipenkonzerte.de/veranstaltungen/the-nasty-boggarts-nienburg
 /
SUMMARY:The Nasty Boggarts
DESCRIPTION:
ATTACH;FMTTYPE=image/jpeg:https://kneipenkonzerte.de/wp-content/uploads/20
 16/05/kneipenkonzert-livemusik-veranstaltung-1.jpg
CATEGORIES:Folk
LOCATION:Jazzclub Nienburg\, Leinstraße 48\, \, Nienburg/Weser\, Niedersac
 hsen\, 31582 \, Hannover\, Deutschland
GEO:52.639337;9.21054
X-APPLE-STRUCTURED-LOCATION;VALUE=URI;X-ADDRESS=Leinstraße 48\, \, Nienbur
 g/Weser\, Niedersachsen\, 31582 \, Hannover\, Deutschland;X-APPLE-RADIUS=1
 00;X-TITLE=Jazzclub Nienburg:geo:52.639337,9.21054
END:VEVENT
BEGIN:VTIMEZONE
TZID:Europe/Berlin
X-LIC-LOCATION:Europe/Berlin
BEGIN:DAYLIGHT
DTSTART:20220327T030000
TZOFFSETFROM:+0100
TZOFFSETTO:+0200
TZNAME:CEST
END:DAYLIGHT
END:VTIMEZONE
END:VCALENDAR