BEGIN:VCALENDAR
VERSION:2.0
PRODID:-//wp-events-plugin.com//7.2.3.1//EN
TZID:Europe/Berlin
X-WR-TIMEZONE:Europe/Berlin
BEGIN:VEVENT
UID:597@kneipenkonzerte.de
DTSTART;TZID=Europe/Berlin:20161123T210000
DTEND;TZID=Europe/Berlin:20161123T230000
DTSTAMP:20161016T162258Z
URL:https://kneipenkonzerte.de/veranstaltungen/the-sonic-dawn-bielefeld/
SUMMARY:The Sonic Dawn
DESCRIPTION:Der Sound von The Sonic Dawn aus Kopenhagen fühlt sich an wie 
 eine Mischung aus einem '68er Biker Film und dem Summer of Love\, psyche­
 delisch und verträumt. Sixties West Coast Sound trifft auf die frostiger 
 Skandina­vische Land­schaft.
ATTACH;FMTTYPE=image/jpeg:https://kneipenkonzerte.de/wp-content/uploads/20
 16/10/TheSonicDawn2016summer_klein.jpg
CATEGORIES:Rock
LOCATION:Extra Blues Bar\, Siekerstraße 20\, Bielefeld\, NRW\, 33602\, Ost
 westfalen\, Deutschland
GEO:52.0164205;8.531002599999965
X-APPLE-STRUCTURED-LOCATION;VALUE=URI;X-ADDRESS=Siekerstraße 20\, Bielefel
 d\, NRW\, 33602\, Ostwestfalen\, Deutschland;X-APPLE-RADIUS=100;X-TITLE=Ex
 tra Blues Bar:geo:52.0164205,8.531002599999965
END:VEVENT
BEGIN:VTIMEZONE
TZID:Europe/Berlin
X-LIC-LOCATION:Europe/Berlin
BEGIN:STANDARD
DTSTART:20161030T020000
TZOFFSETFROM:+0200
TZOFFSETTO:+0100
TZNAME:CET
END:STANDARD
END:VTIMEZONE
END:VCALENDAR