BEGIN:VCALENDAR
VERSION:2.0
PRODID:-//wp-events-plugin.com//7.2.3.1//EN
TZID:Europe/Berlin
X-WR-TIMEZONE:Europe/Berlin
BEGIN:VEVENT
UID:628@kneipenkonzerte.de
DTSTART;TZID=Europe/Berlin:20181222T210000
DTEND;TZID=Europe/Berlin:20181222T230000
DTSTAMP:20180930T155905Z
URL:https://kneipenkonzerte.de/veranstaltungen/the-uschi-obermaier-experie
 nce/
SUMMARY:The Uschi Obermaier Experience
DESCRIPTION:„It's only Rock 'n' Roll\, and we like it“\nMit ihrem 2013 
 erschienen Debut-Album "Are you happy now !?" haben die „USCHIS“ in kl
 assischer Retro-Rock-Manier den Sprung ins semiprofessionelle Lager gewagt
 .\nEnde 2014 kamen sie mit ihrem Follow up Album „WEL­COME TO THE PANIC
 ROOM“ raus !! Womit der Bezug zu aktuellen Themen wie: IS\, kaltem Krieg
 \, Ukraine-Krise\, Klimawandel\, Ebola usw. alleine durch den Albumtitel h
 er-gestellt ist. Textlich beziehen die Uschis Stellung zu alltäg­lichen 
 Krisen­the­men – ohne nun un­bedingt Lösungen aufzeigen zu wollen. S
 ongs wie KICK THE PIGS oder FIRE IN THE ATTIC sprechen da schon für sich.
  Was jetzt nicht heissen soll\, dass The UOExp. nun eine Polit-Rock-Band g
 eworden ist\, aber in den Texten fließt ein\, was um uns herum so passier
 t. Es ist sicherlich immer noch Rock`n` Roll.... aber die Band hatte auch 
 noch nie den Anspruch dem Rock nun unbedingt neue Seiten abzugewinnen. (Wa
 s auch eher schwer werden dürfte…)
ATTACH;FMTTYPE=image/jpeg:https://kneipenkonzerte.de/wp-content/uploads/20
 16/11/uschi-o-exp-klein.jpg
CATEGORIES:Rock
LOCATION:Extra Blues Bar\, Siekerstraße 20\, Bielefeld\, NRW\, 33602\, Ost
 westfalen\, Deutschland
GEO:52.0164205;8.531002599999965
X-APPLE-STRUCTURED-LOCATION;VALUE=URI;X-ADDRESS=Siekerstraße 20\, Bielefel
 d\, NRW\, 33602\, Ostwestfalen\, Deutschland;X-APPLE-RADIUS=100;X-TITLE=Ex
 tra Blues Bar:geo:52.0164205,8.531002599999965
END:VEVENT
BEGIN:VTIMEZONE
TZID:Europe/Berlin
X-LIC-LOCATION:Europe/Berlin
BEGIN:STANDARD
DTSTART:20181028T020000
TZOFFSETFROM:+0200
TZOFFSETTO:+0100
TZNAME:CET
END:STANDARD
END:VTIMEZONE
END:VCALENDAR