BEGIN:VCALENDAR
VERSION:2.0
PRODID:-//wp-events-plugin.com//7.2.3.1//EN
TZID:Europe/Berlin
X-WR-TIMEZONE:Europe/Berlin
BEGIN:VEVENT
UID:573@kneipenkonzerte.de
DTSTART;TZID=Europe/Berlin:20161014T200000
DTEND;TZID=Europe/Berlin:20161014T220000
DTSTAMP:20161003T135347Z
URL:https://kneipenkonzerte.de/veranstaltungen/the-whispering-tree-mellend
 orf/
SUMMARY:The Whispering Tree live
DESCRIPTION:The Whispering Tree ist ein französisch/englisches Musik-Duo b
 estehend aus Elie Brangbour (Multi-Instrumentalist) und Eleanor Kleiner (G
 esang/Songwriting). Mit ihrem tiefgehenden Sound\, Gesang und Songtexten v
 erzaubern sie jedes Publikum. Beeinflusst wird ihre Musik durch ihre Weltr
 eisen\, von ihrer Heimat New York und Frankreich\, über Südamerika\, bis
  zu einem sieben Monate langen Gig in Macau (China).\n„The Whispering Tr
 ee kombiniert träumerischen Folk\, Mellow Rock und Gypsy Jazz zu einer un
 widerstehlichen Kompilation aus dicht geschriebenen Melodien.“ – The K
 eyboard Magazine
ATTACH;FMTTYPE=image/jpeg:https://kneipenkonzerte.de/wp-content/uploads/20
 16/09/The-Whispering-Tree.jpg
CATEGORIES:Folk-Rock
LOCATION:Herzblut Sport- und Musikbar Mellendorf\, Industriestr. 37\, Wedem
 ark\, Niedersachsen\, 30900\, Hannover\, Deutschland
GEO:52.5510722;9.747433099999967
X-APPLE-STRUCTURED-LOCATION;VALUE=URI;X-ADDRESS=Industriestr. 37\, Wedemark
 \, Niedersachsen\, 30900\, Hannover\, Deutschland;X-APPLE-RADIUS=100;X-TIT
 LE=Herzblut Sport- und Musikbar Mellendorf:geo:52.5510722,9.74743309999996
 7
END:VEVENT
BEGIN:VTIMEZONE
TZID:Europe/Berlin
X-LIC-LOCATION:Europe/Berlin
BEGIN:DAYLIGHT
DTSTART:20160327T030000
TZOFFSETFROM:+0100
TZOFFSETTO:+0200
TZNAME:CEST
END:DAYLIGHT
END:VTIMEZONE
END:VCALENDAR