BEGIN:VCALENDAR
VERSION:2.0
PRODID:-//wp-events-plugin.com//7.2.3.1//EN
TZID:Europe/Berlin
X-WR-TIMEZONE:Europe/Berlin
BEGIN:VEVENT
UID:167@kneipenkonzerte.de
DTSTART;TZID=Europe/Berlin:20160610T200000
DTEND;TZID=Europe/Berlin:20160610T220000
DTSTAMP:20160530T072304Z
URL:https://kneipenkonzerte.de/veranstaltungen/them-rock/
SUMMARY:Them Rock
DESCRIPTION:Nehmen das Publikum mit auf eine Reise durch die letzten fünf 
 Dekaden Pop- und Rockmusik.Sowohl Evergreens der Rock- und Popgeschichte a
 ls auch brandaktuelle Hits werden für´s Unplugged-Format eigenwillig arr
 angiert. So wird ein alter Depeche Mode-Elektrokracher schon mal zum Lager
 feuer-Song oder ein Cure-Hit kommt als lockerer Bossa daher.\nVon der Ball
 ade bis zum Hardrock-Kracher scheuen die unerschrockenen Profis vor nichts
  zurück. Bei THEMROCK sind Melodie und Groove gleichermaßen wichtig.\nAl
 so:\nUnplugged-Musik für Herz und Beine.
ATTACH;FMTTYPE=image/jpeg:https://kneipenkonzerte.de/wp-content/uploads/20
 16/05/kneipenkonzert-livemusik-veranstaltung-1.jpg
CATEGORIES:Rock
LOCATION:Kuddels Musikkneipe\, Goethestraße 1 \, Bremerhaven\, Bemen\, 275
 76 \, Bremen\, Deutschland
GEO:53.55244;8.580050000000028
X-APPLE-STRUCTURED-LOCATION;VALUE=URI;X-ADDRESS=Goethestraße 1 \, Bremerha
 ven\, Bemen\, 27576 \, Bremen\, Deutschland;X-APPLE-RADIUS=100;X-TITLE=Kud
 dels Musikkneipe:geo:53.55244,8.580050000000028
END:VEVENT
BEGIN:VTIMEZONE
TZID:Europe/Berlin
X-LIC-LOCATION:Europe/Berlin
BEGIN:DAYLIGHT
DTSTART:20160327T030000
TZOFFSETFROM:+0100
TZOFFSETTO:+0200
TZNAME:CEST
END:DAYLIGHT
END:VTIMEZONE
END:VCALENDAR