BEGIN:VCALENDAR
VERSION:2.0
PRODID:-//wp-events-plugin.com//7.2.3.1//EN
TZID:Europe/Berlin
X-WR-TIMEZONE:Europe/Berlin
BEGIN:VEVENT
UID:170@kneipenkonzerte.de
DTSTART;TZID=Europe/Berlin:20190824T200000
DTEND;TZID=Europe/Berlin:20190824T220000
DTSTAMP:20190506T142147Z
URL:https://kneipenkonzerte.de/veranstaltungen/tim-mcmillan-friends-lauena
 u/
SUMMARY:Tim McMillan & Rachel Snow
DESCRIPTION:Der im australischen Melbourne beheimatete Singer/Songwriter Ti
 m McMillan glänzt nicht nur mitvirtuosem Spiel auf der Akustikgitarre. Er
  erweist sich auch als eigenwilliger Komponist\, der mit komplexen Soundge
 bilden aufwartet\, die sich musikalisch nach allen Seiten öffnen.\n\nIm J
 ahr 2000 schließt er sein Studium mit dem Bachelor Of Music (Jazzgitarre)
  ab und verdingt sich seitdem als Musiklehrer\, Komponist und Sessionmusik
 er. Zudem fokussiert er sich zunehmend auf eine Laufbahn als Solokünster.
  Stilistisch greift der in seiner Heimat mit zahlreichen Preisen dekoriert
 e Musiker auf die Genres Folk\, Klassik\, Jazz\, Weltmusik und Blues zurü
 ck und bringt diese Vielseitigkeit mit seiner Indie-Attitüde in Einklang.
 ....\n\n.....Hierzulande macht er ertmals in Fankreisen der Folkpop-Kombo 
 Naked Raven einen Namen\, die er 2006 auf deren Europa-Tour als Gitarrist 
 begleitet und zudem erste Solokonzerte spielt.\n\nSeine eklektische Mixtur
  bezeichnet McMillan selbst als "Goblincore" und spielt damit auf eine ent
 rückt und fantastisch klingende\, dann wieder bis an Progrock und ins Abs
 trakte reichende Klangwelt an. Auf seinen Longplayern stehen Songs neben S
 ologitarrenstücken und Instrumentaltracks samt Bandbegleitung.
ATTACH;FMTTYPE=image/jpeg:https://kneipenkonzerte.de/wp-content/uploads/20
 16/05/tim-mcmillan.jpg
CATEGORIES:Folk
LOCATION:Kesselhaus Lauenau\, Carl-Sasse-Str. 3 \, Lauenau\, Niedersachsen\
 , 31867 \, Hannover\, Deutschland
GEO:52.2730744;9.370334700000058
X-APPLE-STRUCTURED-LOCATION;VALUE=URI;X-ADDRESS=Carl-Sasse-Str. 3 \, Lauena
 u\, Niedersachsen\, 31867 \, Hannover\, Deutschland;X-APPLE-RADIUS=100;X-T
 ITLE=Kesselhaus Lauenau:geo:52.2730744,9.370334700000058
END:VEVENT
BEGIN:VTIMEZONE
TZID:Europe/Berlin
X-LIC-LOCATION:Europe/Berlin
BEGIN:DAYLIGHT
DTSTART:20190331T030000
TZOFFSETFROM:+0100
TZOFFSETTO:+0200
TZNAME:CEST
END:DAYLIGHT
END:VTIMEZONE
END:VCALENDAR