BEGIN:VCALENDAR
VERSION:2.0
PRODID:-//wp-events-plugin.com//7.2.3.1//EN
TZID:Europe/Berlin
X-WR-TIMEZONE:Europe/Berlin
BEGIN:VEVENT
UID:172@kneipenkonzerte.de
DTSTART;TZID=Europe/Berlin:20180525T200000
DTEND;TZID=Europe/Berlin:20180525T220000
DTSTAMP:20180322T144227Z
URL:https://kneipenkonzerte.de/veranstaltungen/tim-mcmillan-muenster/
SUMMARY:Tim McMillan
DESCRIPTION:Der in Melbourne / Australien beheimatete Singer/Songwriter Tim
  McMillan glänzt nicht nur mitvirtuosem Spiel auf der Akustikgitarre. Er 
 erweist sich auch als eigenwilliger Komponist\, der mit komplexen Soundgeb
 ilden aufwartet\, die sich musikalisch nach allen Seiten öffnen.\n\nIm Ja
 hr 2000 schließt er sein Studium mit dem Bachelor Of Music (Jazzgitarre) 
 ab und verdingt sich seitdem als Musiklehrer\, Komponist und Sessionmusike
 r. Zudem fokussiert er sich zunehmend auf eine Laufbahn als Solokünster. 
 Stilistisch greift der in seiner Heimat mit zahlreichen Preisen dekorierte
  Musiker auf die Genres Folk\, Klassik\, Jazz\, Weltmusik und Blues zurüc
 k und bringt diese Vielseitigkeit mit seiner Indie-Attitüde in Einklang..
 ...\n\nSeine eklektische Mixtur bezeichnet McMillan selbst als "Goblincore
 " und spielt damit auf eine entrückt und fantastisch klingende\, dann wie
 der bis an Progrock und ins Abstrakte reichende Klangwelt an. Auf seinen L
 ongplayern stehen Songs neben Sologitarrenstücken und Instrumentaltracks 
 samt Bandbegleitung.
ATTACH;FMTTYPE=image/jpeg:https://kneipenkonzerte.de/wp-content/uploads/20
 16/05/tim-mcmillan.jpg
CATEGORIES:Folk
LOCATION:Schnabulenz Münster\, Schnabulenz Geiststraße 50 \, Münster\, N
 RW\, 48151 \, Ruhrgebiet\, Deutschland
GEO:51.94889;7.621560000000045
X-APPLE-STRUCTURED-LOCATION;VALUE=URI;X-ADDRESS=Schnabulenz Geiststraße 50
  \, Münster\, NRW\, 48151 \, Ruhrgebiet\, Deutschland;X-APPLE-RADIUS=100;
 X-TITLE=Schnabulenz Münster:geo:51.94889,7.621560000000045
END:VEVENT
BEGIN:VTIMEZONE
TZID:Europe/Berlin
X-LIC-LOCATION:Europe/Berlin
BEGIN:DAYLIGHT
DTSTART:20180325T030000
TZOFFSETFROM:+0100
TZOFFSETTO:+0200
TZNAME:CEST
END:DAYLIGHT
END:VTIMEZONE
END:VCALENDAR