BEGIN:VCALENDAR
VERSION:2.0
PRODID:-//wp-events-plugin.com//7.2.3.1//EN
TZID:Europe/Berlin
X-WR-TIMEZONE:Europe/Berlin
BEGIN:VEVENT
UID:5784@kneipenkonzerte.de
DTSTART;TZID=Europe/Berlin:20220630T200000
DTEND;TZID=Europe/Berlin:20220630T230000
DTSTAMP:20220616T122647Z
URL:https://kneipenkonzerte.de/veranstaltungen/toby-beard-band/
SUMMARY:Toby Beard & Band
DESCRIPTION:www.clubamdonnerstag.com\nTOBY\n\nEine charismatische Ausnahmek
 ünstlerin mit einer unverkennbaren Stimme - kraftvoll\, warm und ausdruck
 sstark. Ihre Musik ist sowohl im Roots / Folk als auch im Rock oder Pop zu
  Hause. Jazz- und Latin - Liebhaber fühlen sich ebenso bei ihr aufgehoben
  wie Soul- und Bluesfans. Und selbst sanfte Reggae Einlagen sind nicht ung
 ewöhnlich.\nTOBYs Shows sind energiegeladen\, zutiefst emotional und leid
 enschaftlich – gleichzeitig aber auch fröhlich. Tanzgarantie inklusive!
  Und natürlich bezaubert sie immer wieder mit ihrem hinreissenden Lächel
 n. Die Chemie zwischen ihr und dem Publikum stimmt und macht jede Show so 
 einzigartig und unvorhersehbar. Ehrlich\, rau\, lebhaft\, ungezähmt – d
 as ist TOBY!\n\nIn der Vergangenheit spielte sie auf Festivals bereits neb
 en Stevie Wonder\, Alicia Keys\, Blondie und Xavier Rudd und zusammen mit 
 Etta James.\n\nSie bestritt das Vorprogramm von Sheryl Crow\, John Mellenc
 amp\, Paul Kelly\, Brandy\, The Indigo Girls\, Luka Bloom\, Pete Murray un
 d dem John Butler Trio.\n\nhttp://www.tobymusic.com.au/\n\nhttps://www.fac
 ebook.com/tobybeardmusic\n\nTicket Theaterkasse Bergedorf oder\nbestellen 
 bei Konzertkasse Schumacher:\nTickets : https://www.tk-schumacher.de/event
 s/club-am-donnerstag/club-am-donnerstag
ATTACH;FMTTYPE=image/jpeg:https://kneipenkonzerte.de/wp-content/uploads/20
 22/06/IMGtoby_32.jpg
CATEGORIES:Rock
LOCATION:Club am Donnerstag / Happy Billard\, Kurt-A.-Körber-Chaussee 73 \
 , Hamburg Bergedorf\, Hamburg\, 21033 \, Hamburg\, Deutschland
GEO:53.489083;10.192384
X-APPLE-STRUCTURED-LOCATION;VALUE=URI;X-ADDRESS=Kurt-A.-Körber-Chaussee 73
  \, Hamburg Bergedorf\, Hamburg\, 21033 \, Hamburg\, Deutschland;X-APPLE-R
 ADIUS=100;X-TITLE=Club am Donnerstag / Happy Billard:geo:53.489083,10.1923
 84
END:VEVENT
BEGIN:VTIMEZONE
TZID:Europe/Berlin
X-LIC-LOCATION:Europe/Berlin
BEGIN:DAYLIGHT
DTSTART:20220327T030000
TZOFFSETFROM:+0100
TZOFFSETTO:+0200
TZNAME:CEST
END:DAYLIGHT
END:VTIMEZONE
END:VCALENDAR