BEGIN:VCALENDAR
VERSION:2.0
PRODID:-//wp-events-plugin.com//7.2.3.1//EN
TZID:Europe/Berlin
X-WR-TIMEZONE:Europe/Berlin
BEGIN:VEVENT
UID:2278@kneipenkonzerte.de
DTSTART;TZID=Europe/Berlin:20180921T220000
DTEND;TZID=Europe/Berlin:20180921T235900
DTSTAMP:20180809T091109Z
URL:https://kneipenkonzerte.de/veranstaltungen/tom-shadow/
SUMMARY:Tom Shadow
DESCRIPTION:Der Oldenburger Musiker Thomas Oberschelp alias Tom Shadow übe
 rzeugt mit einem eigenwilligen Stil aus Country\, Blues &amp\; Folk. Im Mi
 ttelpunkt der Auftritte steht eigenes Songmaterial\, das Tom während sein
 er Reisen in die ganze Welt geschrieben hat. Tom Shadow ist einfach authen
 tisch. Die Musik von Tom Shadow erzählt Geschichten\, die beim Zuhörer a
 ls real\, urwüchsig\, unverbogen und ungekünstelt wahrgenommen wird. Dir
 ekt aus dem Leben. Die Songs handeln von Herzschmerz\, von Heim- oder Fern
 weh. Gerne greifen sie dabei gesellschaftliche Themen auf\, die eine zeitl
 ose Relevanz besitzen. „Es ist mir wichtig\, dass Inhalt und Musik zusam
 menpassen und ihre Authentizität nicht verlieren“\, erklärt Tom Flexib
 ilität ist das Zauberwort – ob Wohnzimmerkonzert oder Festival mit Band
  –bei Tom Shadow ist alles möglich. Diesmal wird Tom mit Jens Kattmann\
 , dem Drummer der Tom Shadow Band\, an er Cajon und den Percussions kommen
 .\nWann ist ein gutes Konzert eigentlich ein tolles Konzert? Ganz einfach:
  Wenn der Zuschauer den Eindruck hat\, der Musiker sei nirgendwo lieber al
 s auf der Bühne. Das ist bei „Tom Shadow“ der Fall.
ATTACH;FMTTYPE=image/jpeg:https://kneipenkonzerte.de/wp-content/uploads/20
 16/05/kneipenkonzert-livemusik-veranstaltung-1.jpg
CATEGORIES:Blues,Country,Folk
LOCATION:Shakespeare's Theater-Pub\, Am Marktplatz 15 \, Weyhe\, Niedersach
 sen\, 28844 \, Bremen\, Deutschland
GEO:52.98175999999999;8.848880000000008
X-APPLE-STRUCTURED-LOCATION;VALUE=URI;X-ADDRESS=Am Marktplatz 15 \, Weyhe\,
  Niedersachsen\, 28844 \, Bremen\, Deutschland;X-APPLE-RADIUS=100;X-TITLE=
 Shakespeare's Theater-Pub:geo:52.98175999999999,8.848880000000008
END:VEVENT
BEGIN:VTIMEZONE
TZID:Europe/Berlin
X-LIC-LOCATION:Europe/Berlin
BEGIN:DAYLIGHT
DTSTART:20180325T030000
TZOFFSETFROM:+0100
TZOFFSETTO:+0200
TZNAME:CEST
END:DAYLIGHT
END:VTIMEZONE
END:VCALENDAR