BEGIN:VCALENDAR
VERSION:2.0
PRODID:-//wp-events-plugin.com//7.2.3.1//EN
TZID:Europe/Berlin
X-WR-TIMEZONE:Europe/Berlin
BEGIN:VEVENT
UID:1908@kneipenkonzerte.de
DTSTART;TZID=Europe/Berlin:20180720T210000
DTEND;TZID=Europe/Berlin:20180720T230000
DTSTAMP:20180629T094548Z
URL:https://kneipenkonzerte.de/veranstaltungen/trialogues/
SUMMARY:Trialogues
DESCRIPTION:Trialogues\nDie drei Musiker\, die alle über langjährige inte
 rnationale Erfahrung in der improvisierten Musik verfügen\, haben sich in
  Berlin zu diesem aussergewöhnlichen Projekt zusammen gefunden.\n\n 	Jan 
 Weber - guitar\n 	Paul Schwingenschlögl - trumpet\n 	Udo Betz - bass\n\nE
 intritt frei - um angemessenen Kulturbeitrag wird gebeten.
ATTACH;FMTTYPE=image/jpeg:https://kneipenkonzerte.de/wp-content/uploads/20
 16/05/kneipenkonzert-livemusik-veranstaltung-1.jpg
CATEGORIES:Jazz
LOCATION:Peppi Guggenheim\, Weichselstrasse 7 \, Berlin\, Berlin\, 12043 \,
  Berlin\, Deutschland
GEO:52.48419999999999;13.433250000000044
X-APPLE-STRUCTURED-LOCATION;VALUE=URI;X-ADDRESS=Weichselstrasse 7 \, Berlin
 \, Berlin\, 12043 \, Berlin\, Deutschland;X-APPLE-RADIUS=100;X-TITLE=Peppi
  Guggenheim:geo:52.48419999999999,13.433250000000044
END:VEVENT
BEGIN:VTIMEZONE
TZID:Europe/Berlin
X-LIC-LOCATION:Europe/Berlin
BEGIN:DAYLIGHT
DTSTART:20180325T030000
TZOFFSETFROM:+0100
TZOFFSETTO:+0200
TZNAME:CEST
END:DAYLIGHT
END:VTIMEZONE
END:VCALENDAR