BEGIN:VCALENDAR
VERSION:2.0
PRODID:-//wp-events-plugin.com//7.2.3.1//EN
TZID:Europe/Berlin
X-WR-TIMEZONE:Europe/Berlin
BEGIN:VEVENT
UID:625@kneipenkonzerte.de
DTSTART;TZID=Europe/Berlin:20161109T200000
DTEND;TZID=Europe/Berlin:20161109T230000
DTSTAMP:20161108T094323Z
URL:https://kneipenkonzerte.de/veranstaltungen/troy-faid-live-at-lebemann/
SUMMARY:Troy Faid Live at Lebemann
DESCRIPTION:Troy Faid aus Leeds (UK) spielt virtuos die elektrische und aku
 stische Gitarre und Banjo und singt mit einer erdigen\, kraftvollen Stimme
 .\nSeine Musik ist eine ganz eigene Mischung aus Folk\, Rock und Blues mit
  anspruchsvollen Texten.\nBegleitet wird er von seinem Bassisten Tim Loud.
 \n\n&nbsp\;
ATTACH;FMTTYPE=image/jpeg:https://kneipenkonzerte.de/wp-content/uploads/20
 16/11/11141181_946643642046706_7752349433028134146_n.jpg
CATEGORIES:Alternative,Singer/Songwriter
LOCATION:Kulturcafé Lebemann\, Marienstraße 48\, Eisenach\, Thüringen\, 
 99817\, Erfurt\, Deutschland
GEO:50.96928;10.322589999999991
X-APPLE-STRUCTURED-LOCATION;VALUE=URI;X-ADDRESS=Marienstraße 48\, Eisenach
 \, Thüringen\, 99817\, Erfurt\, Deutschland;X-APPLE-RADIUS=100;X-TITLE=Ku
 lturcafé Lebemann:geo:50.96928,10.322589999999991
END:VEVENT
BEGIN:VTIMEZONE
TZID:Europe/Berlin
X-LIC-LOCATION:Europe/Berlin
BEGIN:STANDARD
DTSTART:20161030T020000
TZOFFSETFROM:+0200
TZOFFSETTO:+0100
TZNAME:CET
END:STANDARD
END:VTIMEZONE
END:VCALENDAR