BEGIN:VCALENDAR
VERSION:2.0
PRODID:-//wp-events-plugin.com//7.2.3.1//EN
TZID:Europe/Berlin
X-WR-TIMEZONE:Europe/Berlin
BEGIN:VEVENT
UID:4957@kneipenkonzerte.de
DTSTART;TZID=Europe/Berlin:20220526T110000
DTEND;TZID=Europe/Berlin:20220526T200000
DTSTAMP:20220525T125116Z
URL:https://kneipenkonzerte.de/veranstaltungen/vatertagsspecial/
SUMMARY:Vatertagsspecial
DESCRIPTION:Beer\, BBQ\, Livemusik\nFreut euch aufs Vatertagsspecial: Unser
 e legendäre Hot Rockz &amp\; leckeres Streetfood dürfen da natürlich ni
 cht fehlen! #hautrein\n\nAb 15:00 Uhr gibt's Covermusik vom Feinsten mit e
 ight4ty.Nine - authentisch &amp\; handgemacht vom kraftvollen Rock bis hin
  zur gefühlvollen Ballade.\n\nEinlass: ab 11:00 Uhr\, nur solange der Pla
 tz reicht!
ATTACH;FMTTYPE=image/jpeg:https://kneipenkonzerte.de/wp-content/uploads/20
 16/05/cropped-kneipenkonzert-livemusik-veranstaltung-1.jpg
CATEGORIES:Rock
LOCATION:HeimatRock\, Neckarstraße 62\, Ladenburg\, Baden-Württemberg/ De
 utschland\, 68526\, Stuttgart\, Deutschland
GEO:49.46255;8.609516
X-APPLE-STRUCTURED-LOCATION;VALUE=URI;X-ADDRESS=Neckarstraße 62\, Ladenbur
 g\, Baden-Württemberg/ Deutschland\, 68526\, Stuttgart\, Deutschland;X-AP
 PLE-RADIUS=100;X-TITLE=HeimatRock:geo:49.46255,8.609516
END:VEVENT
BEGIN:VTIMEZONE
TZID:Europe/Berlin
X-LIC-LOCATION:Europe/Berlin
BEGIN:DAYLIGHT
DTSTART:20220327T030000
TZOFFSETFROM:+0100
TZOFFSETTO:+0200
TZNAME:CEST
END:DAYLIGHT
END:VTIMEZONE
END:VCALENDAR