BEGIN:VCALENDAR
VERSION:2.0
PRODID:-//wp-events-plugin.com//7.2.3.1//EN
TZID:Europe/Berlin
X-WR-TIMEZONE:Europe/Berlin
BEGIN:VEVENT
UID:631@kneipenkonzerte.de
DTSTART;TZID=Europe/Berlin:20170113T210000
DTEND;TZID=Europe/Berlin:20170113T230000
DTSTAMP:20161215T111932Z
URL:https://kneipenkonzerte.de/veranstaltungen/vordemfall/
SUMMARY:Vordemfall
DESCRIPTION:Vordemfall - Progressive- \, Noise- &amp\; Krautrock (Berlin)\
 nVordemfall ist ein Rock Duo aus Berlin\, dass auf einem kraftvol­len Dia
 log zwischen Bass und Schlagzeug aufbaut\, eng ver­bunden mit einer Stimm
 e\, die sich je nach Laune um deinen Hals schlängelt oder dir Messer haar
 ­scharf über den Kopf wirft. Live erschaffen die beiden dennoch kei­nen
  Zirkus sondern ei­nen frontalen\, ver­folgten und ver­führenden Aus­
 tausch. Beide Musiker spie­len wie Seil­tänzer ohne Sicherheitsnetz und
  näh­ren ihre Mu­sik mit dieser unwidersteh­lichen Anspannung\, die si
 e bis zum En­de der Show den Atem anhal­ten lässt.
ATTACH;FMTTYPE=image/jpeg:https://kneipenkonzerte.de/wp-content/uploads/20
 16/12/Vordemfall-MITW1-klein.jpg
CATEGORIES:Rock
LOCATION:Extra Blues Bar\, Siekerstraße 20\, Bielefeld\, NRW\, 33602\, Ost
 westfalen\, Deutschland
GEO:52.0164205;8.531002599999965
X-APPLE-STRUCTURED-LOCATION;VALUE=URI;X-ADDRESS=Siekerstraße 20\, Bielefel
 d\, NRW\, 33602\, Ostwestfalen\, Deutschland;X-APPLE-RADIUS=100;X-TITLE=Ex
 tra Blues Bar:geo:52.0164205,8.531002599999965
END:VEVENT
BEGIN:VTIMEZONE
TZID:Europe/Berlin
X-LIC-LOCATION:Europe/Berlin
BEGIN:STANDARD
DTSTART:20161030T020000
TZOFFSETFROM:+0200
TZOFFSETTO:+0100
TZNAME:CET
END:STANDARD
END:VTIMEZONE
END:VCALENDAR