BEGIN:VCALENDAR
VERSION:2.0
PRODID:-//wp-events-plugin.com//7.2.3.1//EN
TZID:Europe/Berlin
X-WR-TIMEZONE:Europe/Berlin
BEGIN:VEVENT
UID:4058@kneipenkonzerte.de
DTSTART;TZID=Europe/Berlin:20200430T210000
DTEND;TZID=Europe/Berlin:20200430T233000
DTSTAMP:20200121T120356Z
URL:https://kneipenkonzerte.de/veranstaltungen/waiting-for-mel-erlangen/
SUMMARY:Waiting for Mel
DESCRIPTION:Waiting for Mel - live in der Soulhalm\n„Waiting for Mel“ 
 – die Band steht für Blues und Rock aber auch Adaptionen von Pop- und S
 wingnummern finden ihren Platz im Repertoire. Die Bandmitglieder aus dem G
 roßraum Nürnberg spielen schwerpunktmäßig Coverversionen und sind seit
  rund vier Jahren als Band zusammen unterwegs. Von Jonny Lang über Paolo 
 Nutini bis zu eigenen Interpretationen wie „Joe the Law“ – „Waitin
 g for Mel“ prägen die Stücke auf ihre charakteristische eigene Weise. 
 Claus Dürr steht dabei mit seiner Gitarre für kraftvolle Riffs und ausdr
 ucksvolle Soli\, Joachim Schrätz liefert mit seinem E-Bass die solide Bas
 is aber auch groovende Walkingbässe. Für das richtige Tempo sorgt Drumme
 r Andreas Dürr\, mal antreibend mit Bass- und Snare-Drum\, mal jazzig-zur
 ückhaltend mit den Besen. Frontfrau Melanie Söllch interpretiert die Son
 gs mit ihrer klaren präzisen Stimme und bietet dabei eine Bandbreite von 
 erdigem Rockgesang bis zu gefühlvollen Blues-Phrasierungen.
ATTACH;FMTTYPE=image/jpeg:https://kneipenkonzerte.de/wp-content/uploads/20
 20/01/WfM-Logo-1.jpg
CATEGORIES:Blues
LOCATION:Kulturbühne Strohalm\, Hauptstraße 107\, Erlangen\, Bayern\, 910
 54\, Franken\, Deutschland
GEO:49.602631;11.003533
X-APPLE-STRUCTURED-LOCATION;VALUE=URI;X-ADDRESS=Hauptstraße 107\, Erlangen
 \, Bayern\, 91054\, Franken\, Deutschland;X-APPLE-RADIUS=100;X-TITLE=Kultu
 rbühne Strohalm:geo:49.602631,11.003533
END:VEVENT
BEGIN:VTIMEZONE
TZID:Europe/Berlin
X-LIC-LOCATION:Europe/Berlin
BEGIN:DAYLIGHT
DTSTART:20200329T030000
TZOFFSETFROM:+0100
TZOFFSETTO:+0200
TZNAME:CEST
END:DAYLIGHT
END:VTIMEZONE
END:VCALENDAR