BEGIN:VCALENDAR
VERSION:2.0
PRODID:-//wp-events-plugin.com//7.2.3.1//EN
TZID:Europe/Berlin
X-WR-TIMEZONE:Europe/Berlin
BEGIN:VEVENT
UID:587@kneipenkonzerte.de
DTSTART;TZID=Europe/Berlin:20161112T210000
DTEND;TZID=Europe/Berlin:20161112T223000
DTSTAMP:20161012T092955Z
URL:https://kneipenkonzerte.de/veranstaltungen/without-fear/
SUMMARY:Without Fear
DESCRIPTION:Konzert der Band Without Fear\nEhrlich und handgemacht ist die 
 Musik der Band Without Fear die am Samstag\, 12. November um 21 Uhr (Einla
 ss 20 Uhr) den ASB-Bahnhof besucht. Coverversionen bekannter Pop und Rock 
 ’n Roll Songs aus allen Dekaden ist das Genre dieser Band. Von Spider Mu
 rphy Gang bis Status Quo ist alles dabei\, was den Musikern von Without Fe
 ar in den Sinn kommt.
ATTACH;FMTTYPE=image/jpeg:https://kneipenkonzerte.de/wp-content/uploads/20
 16/05/kneipenkonzert-livemusik-veranstaltung-1.jpg
CATEGORIES:Pop,Rock
LOCATION:ASB-Bahnhof Barsinghausen\, Berliner Straße 8\, Barsinghausen\, N
 iedersachsen\, 30890\, Hannover\, Deutschland
GEO:52.30485;9.46687
X-APPLE-STRUCTURED-LOCATION;VALUE=URI;X-ADDRESS=Berliner Straße 8\, Barsin
 ghausen\, Niedersachsen\, 30890\, Hannover\, Deutschland;X-APPLE-RADIUS=10
 0;X-TITLE=ASB-Bahnhof Barsinghausen:geo:52.30485,9.46687
END:VEVENT
BEGIN:VTIMEZONE
TZID:Europe/Berlin
X-LIC-LOCATION:Europe/Berlin
BEGIN:STANDARD
DTSTART:20161030T020000
TZOFFSETFROM:+0200
TZOFFSETTO:+0100
TZNAME:CET
END:STANDARD
END:VTIMEZONE
END:VCALENDAR