BEGIN:VCALENDAR
VERSION:2.0
PRODID:-//wp-events-plugin.com//7.2.3.1//EN
TZID:Europe/Berlin
X-WR-TIMEZONE:Europe/Berlin
BEGIN:VEVENT
UID:7266@kneipenkonzerte.de
DTSTART;TZID=Europe/Berlin:20251017T193000
DTEND;TZID=Europe/Berlin:20251017T213000
DTSTAMP:20250926T124717Z
URL:https://kneipenkonzerte.de/veranstaltungen/wolfgang-theuerzeit/
SUMMARY:Wolfgang Theuerzeit
DESCRIPTION:Deutsch-Irisch Folk\n\nWolfgang Theuerzeit\, schon viele Jahre 
 mit seinen Liedern unterwegs und\, spielt Folk aus Deutschland\, Irland Zu
  seinem Repertoire gehören auch alte\, fast in Vergessenheit geratene Mun
 dartlieder und Baladen. Außergewöhnlich ist\, dass der Folkmusiker zu de
 n traditionellen Melodien aus Irland deutsche Texte geschrieben hat. Als b
 esondere Beigabe werden zudem bekannte Protestsongs und Liebeslieder von d
 eutschen Liedermachern vorgetragen. Mit musikalischen Geschichten und eine
 r Gitarre schafft der Sänger während seiner Konzerte fröhliche und auch
  ruhige nachdenkliche Stimmungen .Es werden auch Texte ausgelegt so das Je
 der der möchte auch mitsingen kann\nEintritt: Frei
ATTACH;FMTTYPE=image/jpeg:https://kneipenkonzerte.de/wp-content/uploads/20
 25/09/Barde-2.jpg
CATEGORIES:Singer/Songwriter
LOCATION:Leonhardskapelle\, Gasthausstr. 5  41812 Erkelenz Leonhardskapelle
 \, Erkelenz\, Deutschland\, 41812\, Köln\, Deutschland
GEO:51.080291;6.313785
X-APPLE-STRUCTURED-LOCATION;VALUE=URI;X-ADDRESS=Gasthausstr. 5  41812 Erkel
 enz Leonhardskapelle\, Erkelenz\, Deutschland\, 41812\, Köln\, Deutschlan
 d;X-APPLE-RADIUS=100;X-TITLE=Leonhardskapelle:geo:51.080291,6.313785
END:VEVENT
BEGIN:VTIMEZONE
TZID:Europe/Berlin
X-LIC-LOCATION:Europe/Berlin
BEGIN:DAYLIGHT
DTSTART:20250330T030000
TZOFFSETFROM:+0100
TZOFFSETTO:+0200
TZNAME:CEST
END:DAYLIGHT
END:VTIMEZONE
END:VCALENDAR